BEGIN:VCALENDAR
VERSION:2.0
PRODID:-//https://bolyplebania.hu///NONSGML kigkonsult.se iCalcreator 2.10.15//
METHOD:PUBLISH
BEGIN:VEVENT
UID:20260419T154034CEST-8985fAOfcc@https://bolyplebania.hu/
DTSTAMP:20260419T134034Z
DESCRIPTION:Árpád – házi Szent Erzsébet Ü. https://bolyplebania.hu/miserend
 /naptar/esemény/614-unnepi-szentmise-boly
DTSTART:20251119T160000Z
DTEND:20251119T170000Z
LOCATION:Nepomuki Szent János-templom\, Bóly (7754  Bóly\, Hősök tere 10.)
SUMMARY:Ünnepi szentmise - Bóly
URL:https://bolyplebania.hu/miserend/naptar/esemény/614-unnepi-szentmise-bo
 ly
END:VEVENT
END:VCALENDAR
